BEGIN:VCALENDAR
VERSION:2.0
PRODID:-//ChamberMaster//Event Calendar 2.0//EN
METHOD:PUBLISH
X-PUBLISHED-TTL:P3D
REFRESH-INTERVAL:P3D
CALSCALE:GREGORIAN
BEGIN:VEVENT
DTSTART:20180623T150000Z
DTEND:20180624T150000Z
X-MICROSOFT-CDO-ALLDAYEVENT:FALSE
SUMMARY:Slug Fest
DESCRIPTION:
X-ALT-DESC;FMTTYPE=text/html:
LOCATION:
UID:e.101.9092
SEQUENCE:3
DTSTAMP:20260423T084621Z
URL:https://business.puyallupsumnerchamber.com/events/details/slug-fest-06-23-2018-9092
END:VEVENT

END:VCALENDAR
