BEGIN:VCALENDAR
VERSION:2.0
PRODID:-//ChamberMaster//Event Calendar 2.0//EN
METHOD:PUBLISH
X-PUBLISHED-TTL:P3D
REFRESH-INTERVAL:P3D
CALSCALE:GREGORIAN
BEGIN:VEVENT
DTSTART:20150606T170000Z
DTEND:20150606T190000Z
X-MICROSOFT-CDO-ALLDAYEVENT:FALSE
SUMMARY:Something Enchanted Garden Party
DESCRIPTION:Come meet your favorite princesses\, Elsa\, Anna\, Cinderella\, Belle\, Ariel and a few surprise guests for an enchanted morning of fun! \n\n\n\nAttend mini Wiggleworkshops sponosred by Wiggleworks Kids at 10:30 am and 11:30 am\n\n\n\nThis is a FREE event Ages 2-12 only please.
X-ALT-DESC;FMTTYPE=text/html:Come meet your favorite princesses\, Elsa\, Anna\, Cinderella\, Belle\, Ariel and a few surprise guests for an enchanted morning of fun!&nbsp\;<br />\n<br />\nAttend mini Wiggleworkshops sponosred by Wiggleworks Kids at 10:30 am and 11:30 am<br />\n<br />\nThis is a FREE event Ages 2-12 only please.
LOCATION:South Hill Mall
UID:e.101.6575
SEQUENCE:3
DTSTAMP:20260424T121213Z
URL:https://business.puyallupsumnerchamber.com/events/details/something-enchanted-garden-party-06-06-2015-6575
END:VEVENT

END:VCALENDAR
