BEGIN:VCALENDAR
VERSION:2.0
PRODID:-//ChamberMaster//Event Calendar 2.0//EN
METHOD:PUBLISH
X-PUBLISHED-TTL:P3D
REFRESH-INTERVAL:P3D
CALSCALE:GREGORIAN
BEGIN:VEVENT
DTSTART:20140514T230000Z
DTEND:20140515T020000Z
X-MICROSOFT-CDO-ALLDAYEVENT:FALSE
SUMMARY:Sound Transit Open House on Station Access Improvements
DESCRIPTION:Attend this Open House to learn and provide comments on the parking\, bicycle and pedestrian improvements Sound Transit is considering around the Puyallup Sounder Station
X-ALT-DESC;FMTTYPE=text/html:Attend this Open House to learn and provide comments on the parking\, bicycle and pedestrian improvements Sound Transit is considering around the Puyallup Sounder Station
LOCATION:Liberty Theater 116 W Main Ave Puyallup\, WA
UID:e.101.6475
SEQUENCE:3
DTSTAMP:20260425T110044Z
URL:https://business.puyallupsumnerchamber.com/events/details/sound-transit-open-house-on-station-access-improvements-05-14-2014-6475
END:VEVENT

END:VCALENDAR
