BEGIN:VCALENDAR
VERSION:2.0
PRODID:-//ChamberMaster//Event Calendar 2.0//EN
METHOD:PUBLISH
X-PUBLISHED-TTL:P3D
REFRESH-INTERVAL:P3D
CALSCALE:GREGORIAN
BEGIN:VEVENT
DTSTART:20181030T193000Z
DTEND:20181031T010000Z
X-MICROSOFT-CDO-ALLDAYEVENT:FALSE
SUMMARY:South Sound Summit
DESCRIPTION:This half-day conference has all the components needed to advance south sound business.   During "Influencers of the South Sound\," your organization's management will benefit from area leaders as they share their insight on how to disrupt the market and stay ahead of the competition through innovation and vision in these TED-like talks.   All your employees\, from business development representatives to human resources professionals\, will learn real business solutions and the latest tips and trends from industry experts at our "Tactical Business Solutions" breakout sessions.   Between sessions make sure to stop by one of our "Ask the Experts" stations where industry professionals will provide valuable answers to your questions.   The evening will conclude with a summit celebration. Reach new heights at the biz expo\, where cocktail party meets business expo. Grab a cocktail and meet future business partners in a relaxed environment. Speakers and topics to be announced. Follow the link for more information and to register!
X-ALT-DESC;FMTTYPE=text/html:This half-day conference has all the components needed to advance south sound business. &nbsp\; During &ldquo\;Influencers of the South Sound\,&ldquo\; your organization&rsquo\;s management will benefit from area leaders as they share their insight on how to disrupt the market and stay ahead of the competition through innovation and vision in these TED-like talks. &nbsp\; All your employees\, from business development representatives to human resources professionals\, will learn real business solutions and the latest tips and trends from industry experts at our &ldquo\;Tactical Business Solutions&rdquo\; breakout sessions. &nbsp\; Between sessions make sure to stop by one of our &ldquo\;Ask the Experts&rdquo\; stations where industry professionals will provide valuable answers to your questions. &nbsp\; The evening will conclude with a&nbsp\;summit celebration. Reach new heights at the biz expo\, where cocktail party meets business expo. Grab a cocktail and meet future business partners in a relaxed environment. Speakers and topics to be announced. Follow the link for more information and to register!
LOCATION:Greater Tacoma Convention Center 1500 Commerce St. Tacoma\, WA 98402
UID:e.101.9366
SEQUENCE:3
DTSTAMP:20260421T085926Z
URL:https://business.puyallupsumnerchamber.com/events/details/south-sound-summit-9366
END:VEVENT

END:VCALENDAR
