BEGIN:VCALENDAR
VERSION:2.0
PRODID:-//ChamberMaster//Event Calendar 2.0//EN
METHOD:PUBLISH
X-PUBLISHED-TTL:P3D
REFRESH-INTERVAL:P3D
CALSCALE:GREGORIAN
BEGIN:VEVENT
DTSTART:20150127T220000Z
DTEND:20150127T233000Z
X-MICROSOFT-CDO-ALLDAYEVENT:FALSE
SUMMARY:STanding Tall Fall Risk Seminar
DESCRIPTION:Stand Tall Fall Risk Seminar - hors d' oeuvres/refreshments will be available.\n\n\n\nAgenda:\n\n2:00pm   2:10pm Welcome\, meet and greet (Rebecca Johnson\, CRM\; Franklin Place)\n\n2:10pm   2:30pm  What happens when someone falls and recovery post hospital? (Thresa Kussman\, Dir. of Rehab\; Life Care Centers of Puyallup and South Hill)\n\n2:30pm   2:45pm  Talking about PT/OT home health care\n\nhome and discharge of hospital and SNF (Jay Breiting\, Home Health Specialist\; Gentiva)\n\n2:45pm   3:05pm  Staying healthy and plugging in with your physician (Dr. Philbrick and Robyn Philbrick\, RN\; PNW Concierge Care)\n\n3:05pm   3:20pm  Planning Ahead Support and Aftercare of Family (Anne Rhyner\, Family Service Advisor\; Dignity Memorial)\n\n3:20pm   3:30pm  Close and questions/floor time
X-ALT-DESC;FMTTYPE=text/html:Stand Tall Fall Risk Seminar - hors d&#39\; oeuvres/refreshments will be available.<br />\n<br />\nAgenda:<br />\n2:00pm &ndash\; 2:10pm Welcome\, meet and greet (Rebecca Johnson\, CRM\; Franklin Place)<br />\n2:10pm &ndash\; 2:30pm&nbsp\; What happens when someone falls and recovery post hospital? (Thresa Kussman\, Dir. of Rehab\; Life Care Centers of Puyallup and South Hill)<br />\n2:30pm &ndash\; 2:45pm &nbsp\;Talking about PT/OT home health care<br />\nhome and discharge of hospital and SNF (Jay Breiting\, Home Health Specialist\; Gentiva)<br />\n2:45pm &ndash\; 3:05pm&nbsp\; Staying healthy and plugging in with your physician (Dr. Philbrick and Robyn Philbrick\, RN\; PNW Concierge Care)<br />\n3:05pm &ndash\; 3:20pm&nbsp\; Planning Ahead Support and Aftercare of Family (Anne Rhyner\, Family Service Advisor\; Dignity Memorial)<br />\n3:20pm &ndash\; 3:30pm&nbsp\; Close and questions/floor time<br />\n&nbsp\;
LOCATION:Franklin Place 5713 Parker Road East\, Sumner\, WA 98390
UID:e.101.6547
SEQUENCE:3
DTSTAMP:20260424T202007Z
URL:https://business.puyallupsumnerchamber.com/events/details/standing-tall-fall-risk-seminar-01-27-2015-6547
END:VEVENT

END:VCALENDAR
