BEGIN:VCALENDAR
VERSION:2.0
PRODID:-//ChamberMaster//Event Calendar 2.0//EN
METHOD:PUBLISH
X-PUBLISHED-TTL:P3D
REFRESH-INTERVAL:P3D
CALSCALE:GREGORIAN
BEGIN:VEVENT
DTSTART:20180929T210000Z
DTEND:20180930T010000Z
X-MICROSOFT-CDO-ALLDAYEVENT:FALSE
SUMMARY:Steins and Stems Art\, Wine and Brew Tour
DESCRIPTION:Grab your spouse\, friends or significant other and join us for this great annual event! This year we change it up a bit by adding craft beers and ciders to the tasting offers! So because of this\, we decided to change the name from Puyallup Art & Wine Walk to Steins and Stems\, Puyallup's Art\, Wine and Brew Tour!\n\n \nTo purchase tickets\, just click here! Or stop by the Main Street Association office\, 118 W Main.
X-ALT-DESC;FMTTYPE=text/html:<p>Grab your spouse\, friends or significant other and join us for this great annual event! This year we change it up a bit by adding craft beers and ciders to the tasting offers! So because of this\, we decided to change the name from Puyallup Art &amp\; Wine Walk to Steins and Stems\, Puyallup&rsquo\;s Art\, Wine and Brew Tour!</p>\n\n<p>&nbsp\;</p>\n<span style="color: rgb(85\, 85\, 85)\; font-family: arial\,sans-serif\;">To purchase tickets\, just&nbsp\;</span><a href="https://www.brownpapertickets.com/event/3557310" style="margin: 0px\; padding: 0px\; border: 0px currentColor\; border-image: none\; color: rgb(25\, 152\, 135)\; line-height: inherit\; font-family: arial\, sans-serif\; vertical-align: baseline\; font-stretch: inherit\; font-variant-numeric: inherit\; font-variant-east-asian: inherit\;">click here</a><span style="color: rgb(85\, 85\, 85)\; font-family: arial\,sans-serif\;">! Or stop by the Main Street Association office\, 118 W Main.</span>
LOCATION:Stroll around our downtown Puyallup shops and businesses while sampling great wines\, craft beers and ciders made by local wineries\, brewers\, and cider-makers.
UID:e.101.9365
SEQUENCE:3
DTSTAMP:20260423T085327Z
URL:https://business.puyallupsumnerchamber.com/events/details/steins-and-stems-art-wine-and-brew-tour-9365
END:VEVENT

END:VCALENDAR
