BEGIN:VCALENDAR
VERSION:2.0
PRODID:-//ChamberMaster//Event Calendar 2.0//EN
METHOD:PUBLISH
X-PUBLISHED-TTL:P3D
REFRESH-INTERVAL:P3D
CALSCALE:GREGORIAN
BEGIN:VEVENT
DTSTART:20180727T013000Z
DTEND:20180727T030000Z
X-MICROSOFT-CDO-ALLDAYEVENT:FALSE
SUMMARY:Summer Concerts in Pioneer Park
DESCRIPTION:Don't miss a Thursday evening of Music and community on the lawn at Pioneer Park.\n\n Each week a different Performers & Style.
X-ALT-DESC;FMTTYPE=text/html:Don't miss a Thursday evening of Music and community on the lawn at Pioneer Park.<br>\n&nbsp\;Each week a different Performers &amp\; Style.&nbsp\;&nbsp\;<br>\n&nbsp\;
LOCATION:Pioneer Park 325 South Meridian Downtown Puyallup\, WA
UID:e.101.9138
SEQUENCE:3
DTSTAMP:20260421T134002Z
URL:https://business.puyallupsumnerchamber.com/events/details/summer-concerts-in-pioneer-park-07-26-2018-9138
END:VEVENT

END:VCALENDAR
