BEGIN:VCALENDAR
VERSION:2.0
PRODID:-//ChamberMaster//Event Calendar 2.0//EN
METHOD:PUBLISH
X-PUBLISHED-TTL:P3D
REFRESH-INTERVAL:P3D
CALSCALE:GREGORIAN
BEGIN:VEVENT
DTSTART:20180713T013000Z
DTEND:20180713T030000Z
X-MICROSOFT-CDO-ALLDAYEVENT:FALSE
SUMMARY:Summer Concerts in Pioneer Park
DESCRIPTION:Be there on Thursday evenings for Music and community on the lawn at Pioneer Park.\n\n Each week different Performers & Style.
X-ALT-DESC;FMTTYPE=text/html:Be there on Thursday evenings for Music and community on the lawn at Pioneer Park.<br />\n&nbsp\;Each week different Performers &amp\; Style.&nbsp\;&nbsp\;<br />\n&nbsp\;
LOCATION:Pioneer Park 25 South Meridian Downtown Puyallup\, WA
UID:e.101.9136
SEQUENCE:3
DTSTAMP:20260421T133812Z
URL:https://business.puyallupsumnerchamber.com/events/details/summer-concerts-in-pioneer-park-9136
END:VEVENT

END:VCALENDAR
