BEGIN:VCALENDAR
VERSION:2.0
PRODID:-//ChamberMaster//Event Calendar 2.0//EN
METHOD:PUBLISH
X-PUBLISHED-TTL:P3D
REFRESH-INTERVAL:P3D
CALSCALE:GREGORIAN
BEGIN:VEVENT
DTSTART:20180728T170000Z
DTEND:20180728T220000Z
X-MICROSOFT-CDO-ALLDAYEVENT:FALSE
SUMMARY:Summer Garden Fair at Ed Hume Seeds
DESCRIPTION:Come enjoy this beautiful Northwest summer with us!    Enjoy tours of our garden and warehouse.\n\n     There will be a raffle\, a book signing\, and games and activities for kids.
X-ALT-DESC;FMTTYPE=text/html:Come enjoy this beautiful Northwest summer with us!&nbsp\; &nbsp\; Enjoy tours of our garden and warehouse.<br />\n&nbsp\; &nbsp\;&nbsp\; There will be a raffle\, a book signing\, and games and activities for kids.
LOCATION:Ed Hume Seeds 11504 58th Ave E Puyallup WA 98373
UID:e.101.9135
SEQUENCE:3
DTSTAMP:20260421T133613Z
URL:https://business.puyallupsumnerchamber.com/events/details/summer-garden-fair-at-ed-hume-seeds-9135
END:VEVENT

END:VCALENDAR
