BEGIN:VCALENDAR
VERSION:2.0
PRODID:-//ChamberMaster//Event Calendar 2.0//EN
METHOD:PUBLISH
X-PUBLISHED-TTL:P3D
REFRESH-INTERVAL:P3D
CALSCALE:GREGORIAN
BEGIN:VEVENT
DTSTART:20151219T230000Z
DTEND:20151220T020000Z
X-MICROSOFT-CDO-ALLDAYEVENT:FALSE
SUMMARY:Sunrise Village - 2015 Festive Fun
DESCRIPTION:Come celebrate the holiday season with us here at Sunrise Village! Enjoy a visit with Santa\, horse drawn wagon rides\, living nativity (petting zoo as well) and much more holiday magic for the whole family! Visit our website www.mysunrisevillage.com for more details!
X-ALT-DESC;FMTTYPE=text/html:Come celebrate the holiday season with us here at Sunrise Village! Enjoy a visit with Santa\, horse drawn wagon rides\, living nativity (petting zoo as well) and much more holiday magic for the whole family! Visit our website www.mysunrisevillage.com for more details!
LOCATION:10507 156th St. E. Puyallup\, WA 98374
UID:e.101.6809
SEQUENCE:3
DTSTAMP:20260424T050847Z
URL:https://business.puyallupsumnerchamber.com/events/details/sunrise-village-2015-festive-fun-12-19-2015-6809
END:VEVENT

END:VCALENDAR
