BEGIN:VCALENDAR
VERSION:2.0
PRODID:-//ChamberMaster//Event Calendar 2.0//EN
METHOD:PUBLISH
X-PUBLISHED-TTL:P3D
REFRESH-INTERVAL:P3D
CALSCALE:GREGORIAN
BEGIN:VEVENT
DTSTART:20160611T170000Z
DTEND:20160611T220000Z
X-MICROSOFT-CDO-ALLDAYEVENT:FALSE
SUMMARY:Sunrise Village - 2016 Car Show
DESCRIPTION:Join us at our 2016 Sunrise Village Car Show **Cars will start arriving at 10AM to check in. 9am - 11am: The RAM food truck will be serving breakfast 10am: Trapper's will open their patio 11am: The RAM beer garden opens Noon - 3pm: Live music\, judging\, 50/50 raffle tickets being sold to support Veteran-related non-profits 3pm: Prizes announced Award Categories: Best in Show Best Oldie/Pre 40's Best 50's Best 60's Best 70's Best Daily Driver Best Project Car/Work in Progress Best Paint Best Motorcycle People's Choice Most Muscular = Most Horsepower Thanks to our Sponsor! Berkshire Hathaway HomeServices - Northwes Real Estate **Register your car on www.mysunrisevillage.com**
X-ALT-DESC;FMTTYPE=text/html:Join us at our 2016 Sunrise Village Car Show **Cars will start arriving at 10AM to check in. 9am - 11am: The RAM food truck will be serving breakfast 10am: Trapper&#39\;s will open their patio 11am: The RAM beer garden opens Noon - 3pm: Live music\, judging\, 50/50 raffle tickets being sold to support Veteran-related non-profits 3pm: Prizes announced Award Categories: Best in Show Best Oldie/Pre 40&#39\;s Best 50&#39\;s Best 60&#39\;s Best 70&#39\;s Best Daily Driver Best Project Car/Work in Progress Best Paint Best Motorcycle People&#39\;s Choice Most Muscular = Most Horsepower Thanks to our Sponsor! Berkshire Hathaway HomeServices - Northwes Real Estate **Register your car on www.mysunrisevillage.com**
LOCATION:Meridian Sunrise Village 10507 156th St. E Puyallup\, WA 98374
UID:e.101.8019
SEQUENCE:3
DTSTAMP:20260423T202333Z
URL:https://business.puyallupsumnerchamber.com/events/details/sunrise-village-2016-car-show-06-11-2016-8019
END:VEVENT

END:VCALENDAR
