BEGIN:VCALENDAR
VERSION:2.0
PRODID:-//ChamberMaster//Event Calendar 2.0//EN
METHOD:PUBLISH
X-PUBLISHED-TTL:P3D
REFRESH-INTERVAL:P3D
CALSCALE:GREGORIAN
BEGIN:VEVENT
DTSTART:20160810T010000Z
DTEND:20160810T030000Z
X-MICROSOFT-CDO-ALLDAYEVENT:FALSE
SUMMARY:Sunrise Village - 2016 Summer Concert: Colt and the Peacemakers
DESCRIPTION:Join us for our 2016 Summer Concert Series! Grab a bite from one of our restaurants and have a family picnic on the lawn or find a spot on one of our restaurant patios to enjoy a cold brew while enjoying the free live music in the plaza near Qdoba. August 9 Colt and the Peacemakers (Country Rock/Honky Tonk/Americana)\n\nSummer Concerts are sponsored in part by:\n\nBerkshire Hathaway HomeServices Northwest Real Estate
X-ALT-DESC;FMTTYPE=text/html:<span style="color: rgb(51\, 51\, 51)\; font-family: sans-serif\, Arial\, Verdana\, 'Trebuchet MS'\; font-size: 13px\; line-height: 20.8px\; background-color: rgb(255\, 255\, 255)\;">Join us for our 2016 Summer Concert Series! Grab a bite from one of our restaurants and have a family picnic on the lawn or find a spot on one of our restaurant patios to enjoy a cold brew while enjoying the free live music in the plaza near&nbsp\;</span>Qdoba<span style="color: rgb(51\, 51\, 51)\; font-family: sans-serif\, Arial\, Verdana\, 'Trebuchet MS'\; font-size: 13px\; line-height: 20.8px\; background-color: rgb(255\, 255\, 255)\;">. August 9 Colt and the Peacemakers&nbsp\;(Country Rock/Honky Tonk/Americana)</span><br style="color: rgb(51\, 51\, 51)\; font-family: sans-serif\, Arial\, Verdana\, 'Trebuchet MS'\; font-size: 13px\; line-height: 20.8px\;" />\n<span style="color: rgb(51\, 51\, 51)\; font-family: sans-serif\, Arial\, Verdana\, 'Trebuchet MS'\; font-size: 13px\; line-height: 20.8px\; background-color: rgb(255\, 255\, 255)\;">Summer Concerts are sponsored in part by:</span><br style="color: rgb(51\, 51\, 51)\; font-family: sans-serif\, Arial\, Verdana\, 'Trebuchet MS'\; font-size: 13px\; line-height: 20.8px\;" />\n<span style="color: rgb(51\, 51\, 51)\; font-family: sans-serif\, Arial\, Verdana\, 'Trebuchet MS'\; font-size: 13px\; line-height: 20.8px\; background-color: rgb(255\, 255\, 255)\;">Berkshire Hathaway&nbsp\;</span>HomeServices<span style="color: rgb(51\, 51\, 51)\; font-family: sans-serif\, Arial\, Verdana\, 'Trebuchet MS'\; font-size: 13px\; line-height: 20.8px\; background-color: rgb(255\, 255\, 255)\;">&nbsp\;Northwest Real Estate</span>
LOCATION:Meridian Sunrise Village - 10507 156th St E Puyallup 98374
UID:e.101.8047
SEQUENCE:3
DTSTAMP:20260423T154543Z
URL:https://business.puyallupsumnerchamber.com/events/details/sunrise-village-2016-summer-concert-colt-and-the-peacemakers-08-09-2016-8047
END:VEVENT

END:VCALENDAR
