BEGIN:VCALENDAR
VERSION:2.0
PRODID:-//ChamberMaster//Event Calendar 2.0//EN
METHOD:PUBLISH
X-PUBLISHED-TTL:P3D
REFRESH-INTERVAL:P3D
CALSCALE:GREGORIAN
BEGIN:VEVENT
DTSTART:20160713T010000Z
DTEND:20160713T030000Z
X-MICROSOFT-CDO-ALLDAYEVENT:FALSE
SUMMARY:Sunrise Village - 2016 Summer Concert: Hook Me Up Band
DESCRIPTION:Join us for our 2016 Summer Concert Series! Grab a bite from one of our restaurants and have a family picnic on the lawn or find a spot on one of our restaurant patios to enjoy a cold brew while enjoying the free live music in the plaza near Qdoba. July 12 Hook Me Up Band (Jazz/Pop Quartet)\n\nSummer Concerts are sponsored in part by:\n\nBerkshire Hathaway HomeServices Northwest Real Estate
X-ALT-DESC;FMTTYPE=text/html:Join us for our 2016 Summer Concert Series! Grab a bite from one of our restaurants and have a family picnic on the lawn or find a spot on one of our restaurant patios to enjoy a cold brew while enjoying the free live music in the plaza near Qdoba. July 12 Hook Me Up Band (Jazz/Pop Quartet)<br />\nSummer Concerts are sponsored in part by:<br />\nBerkshire Hathaway HomeServices Northwest Real Estate
LOCATION:Meridian Sunrise Village - 10507 156th St. E. Puyallup\, WA 98374
UID:e.101.8022
SEQUENCE:3
DTSTAMP:20260423T171443Z
URL:https://business.puyallupsumnerchamber.com/events/details/sunrise-village-2016-summer-concert-hook-me-up-band-07-12-2016-8022
END:VEVENT

END:VCALENDAR
