BEGIN:VCALENDAR
VERSION:2.0
PRODID:-//ChamberMaster//Event Calendar 2.0//EN
METHOD:PUBLISH
X-PUBLISHED-TTL:P3D
REFRESH-INTERVAL:P3D
CALSCALE:GREGORIAN
BEGIN:VEVENT
DTSTART;VALUE=DATE:20160719
DTEND;VALUE=DATE:20160720
TRANSP:TRANSPARENT
X-MICROSOFT-CDO-ALLDAYEVENT:TRUE
SUMMARY:Sunrise Village - 2016 Summer Concert: Mossy Rocks
DESCRIPTION:Join us for our 2016 Summer Concert Series! Grab a bite from one of our restaurants and have a family picnic on the lawn or find a spot on one of our restaurant patios to enjoy a cold brew while enjoying the free live music in the plaza near Qdoba. July 19 Mossy Rocks (Rock/Blues/Country)\n\nSummer Concerts are sponsored in part by:\n\nBerkshire Hathaway HomeServices Northwest Real Estate
X-ALT-DESC;FMTTYPE=text/html:<span style="color: rgb(51\, 51\, 51)\; font-family: sans-serif\, Arial\, Verdana\, 'Trebuchet MS'\; font-size: 13px\; line-height: 20.8px\; background-color: rgb(255\, 255\, 255)\;">Join us for our 2016 Summer Concert Series! Grab a bite from one of our restaurants and have a family picnic on the lawn or find a spot on one of our restaurant patios to enjoy a cold brew while enjoying the free live music in the plaza near&nbsp\;</span>Qdoba<span style="color: rgb(51\, 51\, 51)\; font-family: sans-serif\, Arial\, Verdana\, 'Trebuchet MS'\; font-size: 13px\; line-height: 20.8px\; background-color: rgb(255\, 255\, 255)\;">. July 19 Mossy Rocks (Rock/Blues/Country)</span><br style="color: rgb(51\, 51\, 51)\; font-family: sans-serif\, Arial\, Verdana\, 'Trebuchet MS'\; font-size: 13px\; line-height: 20.8px\;" />\n<span style="color: rgb(51\, 51\, 51)\; font-family: sans-serif\, Arial\, Verdana\, 'Trebuchet MS'\; font-size: 13px\; line-height: 20.8px\; background-color: rgb(255\, 255\, 255)\;">Summer Concerts are sponsored in part by:</span><br style="color: rgb(51\, 51\, 51)\; font-family: sans-serif\, Arial\, Verdana\, 'Trebuchet MS'\; font-size: 13px\; line-height: 20.8px\;" />\n<span style="color: rgb(51\, 51\, 51)\; font-family: sans-serif\, Arial\, Verdana\, 'Trebuchet MS'\; font-size: 13px\; line-height: 20.8px\; background-color: rgb(255\, 255\, 255)\;">Berkshire Hathaway&nbsp\;</span>HomeServices<span style="color: rgb(51\, 51\, 51)\; font-family: sans-serif\, Arial\, Verdana\, 'Trebuchet MS'\; font-size: 13px\; line-height: 20.8px\; background-color: rgb(255\, 255\, 255)\;">&nbsp\;Northwest Real Estate</span>
LOCATION:Meridian Sunrise Village - 10507 156th St. E. Puyallup\, WA 98374
UID:e.101.8044
SEQUENCE:3
DTSTAMP:20260423T171303Z
URL:https://business.puyallupsumnerchamber.com/events/details/sunrise-village-2016-summer-concert-mossy-rocks-07-19-2016-8044
END:VEVENT

END:VCALENDAR
