BEGIN:VCALENDAR
VERSION:2.0
PRODID:-//ChamberMaster//Event Calendar 2.0//EN
METHOD:PUBLISH
X-PUBLISHED-TTL:P3D
REFRESH-INTERVAL:P3D
CALSCALE:GREGORIAN
BEGIN:VEVENT
DTSTART:20150404T210000Z
DTEND:20150405T000000Z
X-MICROSOFT-CDO-ALLDAYEVENT:FALSE
SUMMARY:Sunrise Village Easter Egg Hunt Event
DESCRIPTION:Sunrise Village Easter Egg Hunt Event\n\n \n\nTraditional Egg Hunt: For ages 6 and under\n\n*On the grassy area near Qdoba\n\n*Kids will get to hunt for eggs in small groups\, we'll keep the line moving the whole time! This will be an ongoing egg hunt for the kids from 2-5pm. Come anytime but please try to join the line by 4:30 for the fun! \n\n*We limit the number of eggs each little egg hunter may find so that there are enough for all the kids. No one goes home with an empty basket! (Please help us encourage your little one to stick with the limit :)\n\n\n\nScavenger Hunt: For ages 7 to 12\n\n\n\n*Cascade Christian Schools is sponsoring this event! Get your first egg at their booth outside the Ram\, that will have the first clue which will lead you to one of our merchants. There you will get your next egg with a clue and so on...\n\n*This will be ongoing from 2-5pm. Come anytime for your first egg but please try to arrive by 4:30 so you have time to complete the scavenger hunt!\n\n\n\nMeet the Easter Bunny: From 2-5pm\n\n*Bring your own camera for free bunny photos!\n\n\n\nVisit SPIRIT 105.3: From 2-5pm\n\n*Stop by for goodies from the radio station!\n\n\n\nPetting Zoo: From 2-5pm\n\n*Pet the fluffy bunnies and more!\n\n\n\nFace Painting and lots of free fun for all!!
X-ALT-DESC;FMTTYPE=text/html:<div style="text-align: center\;"><span style="font-size: 16px\;"><strong>Sunrise Village Easter Egg Hunt Event</strong></span><br />\n&nbsp\;</div>\n\n<div style="text-align: center\;"><span style="font-family: arial\;"><strong>Traditional Egg Hunt:&nbsp\;For ages 6 and under</strong><br />\n*On the grassy area near Qdoba<br />\n*Kids will get to hunt for eggs in small groups\, we&#39\;ll keep the line moving the whole time! This will be an ongoing egg hunt for the kids from 2-5pm. Come anytime but please try to join the line&nbsp\;by 4:30&nbsp\;for the fun!&nbsp\;<br />\n*We limit the number of eggs each little egg hunter may find so that there are enough for all the kids. No one goes home with an empty basket! (Please help us encourage your little one to stick with the limit :)<br />\n<br />\n<strong>Scavenger Hunt:&nbsp\;For ages 7 to 12</strong><br />\n<br />\n*<strong>Cascade Christian Schools is sponsoring this event!</strong> Get your first egg at their booth outside the Ram\, that will have the first clue which will lead you to one of our merchants. There you will get your next egg with a clue and so on...<br />\n*This will be ongoing from 2-5pm. Come anytime for your first egg but please try to arrive by 4:30 so you have time to complete the scavenger hunt!<br />\n<br />\n<strong>Meet the Easter Bunny:</strong>&nbsp\;From 2-5pm<br />\n*Bring your own camera for free bunny photos!<br />\n<br />\n<strong>Visit SPIRIT 105.3</strong>:&nbsp\;From 2-5pm<br />\n*Stop by for goodies from the radio station!<br />\n<br />\n<strong>Petting Zoo</strong>:&nbsp\;From 2-5pm<br />\n*Pet the fluffy bunnies and more!<br />\n<br />\nFace Painting and lots of free fun for all!!</span><br />\n&nbsp\;</div>\n
LOCATION:Sunrise Village
UID:e.101.6565
SEQUENCE:3
DTSTAMP:20260424T154353Z
URL:https://business.puyallupsumnerchamber.com/events/details/sunrise-village-easter-egg-hunt-event-04-04-2015-6565
END:VEVENT

END:VCALENDAR
