BEGIN:VCALENDAR
VERSION:2.0
PRODID:-//ChamberMaster//Event Calendar 2.0//EN
METHOD:PUBLISH
X-PUBLISHED-TTL:P3D
REFRESH-INTERVAL:P3D
CALSCALE:GREGORIAN
BEGIN:VEVENT
DTSTART:20160814T000000Z
DTEND:20160814T060000Z
X-MICROSOFT-CDO-ALLDAYEVENT:FALSE
SUMMARY:Sunrise Village - Family Night Out
DESCRIPTION:Family Night Out - August 13\, 2016\n\n\n\nPresented by Sunrise Village & Anchor Bank\n\n\n\nBegin your evening with Family by strolling around the Saturday Night Cruz-In\, which starts at 5PM on 156th st. E.\n\nEnjoy dinner\, dessert and shopping around Sunrise Village. Many of our businesses are providing special offers during the Event. (Please visit our website www.mysunrisevillage.com for more information)\n\n\n\nOngoing from 6-8pm: Get your face painted by the Daffodil Princesses\, jump in the YMCA bouncy house\, enjoy crafts with the Girl Scouts\, relax with a chair massage at Hand & Stone Massage and Facial Spa.\n\n\n\nThen...\n\nSet up your lawn chairs and comfy blankets for our outdoor movie provided by Anchor Bank\n\n\n\nShowing: Inside Out\n\nThe movie will begin at sundown (8:30-9pm-ish)\n\n\n\nLocation: Parking lot are behind Anchor Bank.  Have a truck?  Pull up outside the marked area and make it a drive-in movie for your family!
X-ALT-DESC;FMTTYPE=text/html:<div style="text-align: center\;"><strong>Family Night Out - August 13\, 2016</strong><br />\n<br />\n<strong>Presented by Sunrise Village &amp\; Anchor Bank</strong><br />\n<br />\nBegin&nbsp\;your evening with Family by strolling around the Saturday Night Cruz-In\, which starts at 5PM on 156th st. E.<br />\nEnjoy dinner\, dessert and shopping around Sunrise Village.&nbsp\;Many of our businesses are providing special offers during the Event. (Please visit our website <a href="http://www.mysunrisevillage.com">www.mysunrisevillage.com</a> for more information)<br />\n<br />\n<u><strong>Ongoing from 6-8pm</strong></u>: Get your face painted by the <strong>Daffodil Princesses</strong>\, jump in the <strong>YMCA</strong> bouncy house\, enjoy crafts with the <strong>Girl Scouts</strong>\, relax with a chair massage at <strong>Hand &amp\; Stone Massage and Facial Spa.</strong><br />\n<br />\nThen...<br />\nSet up your lawn chairs and comfy blankets for our outdoor movie provided by <strong>Anchor Bank</strong><br />\n<br />\n<u><strong>Showing:</strong></u> Inside Out<br />\nThe movie will begin at sundown (8:30-9pm-ish)<br />\n<br />\n<u><strong>Location:</strong></u> Parking lot are behind Anchor Bank.&nbsp\; Have a truck?&nbsp\; Pull up outside the marked area and make it a drive-in movie for your family!<br />\n&nbsp\;</div>\n
LOCATION:Meridian Sunrise Village - 10507 156th St. E. Puyallup\, WA 98374
UID:e.101.8408
SEQUENCE:3
DTSTAMP:20260423T154149Z
URL:https://business.puyallupsumnerchamber.com/events/details/sunrise-village-family-night-out-08-13-2016-8408
END:VEVENT

END:VCALENDAR
