BEGIN:VCALENDAR
VERSION:2.0
PRODID:-//ChamberMaster//Event Calendar 2.0//EN
METHOD:PUBLISH
X-PUBLISHED-TTL:P3D
REFRESH-INTERVAL:P3D
CALSCALE:GREGORIAN
BEGIN:VEVENT
DTSTART:20150715T010000Z
DTEND:20150715T030000Z
X-MICROSOFT-CDO-ALLDAYEVENT:FALSE
SUMMARY:Sunrise Village Summer Concerts
DESCRIPTION:"Family Date Night" Tuesdays July 14th-Aug 8th\, 6-8PM July 14 - Raucous Band "Classic Rock & Roll" July 21 - Aaron Crawford "Country/Rock" July 28 - Diamond Experience "Neil Diamond Hits" August 4 - Fabulous Po' Boys "Pop/Rock/Blues" Concerts are held in the Sun Dial area near Qdoba.
X-ALT-DESC;FMTTYPE=text/html:&quot\;Family Date Night&quot\; Tuesdays July 14th-Aug 8th\, 6-8PM July 14 - Raucous Band &quot\;Classic Rock &amp\; Roll&quot\; July 21 - Aaron Crawford &quot\;Country/Rock&quot\; July 28 - Diamond Experience &quot\;Neil Diamond Hits&quot\; August 4 - Fabulous Po&#39\; Boys &quot\;Pop/Rock/Blues&quot\; Concerts are held in the Sun Dial area near Qdoba.
LOCATION:10507 156th St. E. Puyallup\, WA 98374
UID:e.101.6733
SEQUENCE:3
DTSTAMP:20260424T105115Z
URL:https://business.puyallupsumnerchamber.com/events/details/sunrise-village-summer-concerts-07-14-2015-6733
END:VEVENT

END:VCALENDAR
