BEGIN:VCALENDAR
VERSION:2.0
PRODID:-//ChamberMaster//Event Calendar 2.0//EN
METHOD:PUBLISH
X-PUBLISHED-TTL:P3D
REFRESH-INTERVAL:P3D
CALSCALE:GREGORIAN
BEGIN:VEVENT
DTSTART:20150722T010000Z
DTEND:20150722T030000Z
X-MICROSOFT-CDO-ALLDAYEVENT:FALSE
SUMMARY:Sunrise Village Summer Concerts
DESCRIPTION:"Family Date Night" Tuesdays\n\nJuly 21 - Aaron Crawford "Country/Rock"\n\nJuly 28 - Diamond Experience "Neil Diamond Hits"\n\nAugust 4 - Fabulous Po' Boys "Pop/Rock/Blues"\n\nConcerts are held in the Sun Dial area near Qdoba.
X-ALT-DESC;FMTTYPE=text/html:<span style="color: rgb(51\, 51\, 51)\; font-family: sans-serif\, Arial\, Verdana\, 'Trebuchet MS'\; font-size: 13px\; line-height: 20.7999992370605px\; background-color: rgb(255\, 255\, 255)\;"><span style="font-size:14px\;"><strong>&quot\;Family Date Night&quot\; Tuesdays</strong></span></span><br />\n<span style="color: rgb(51\, 51\, 51)\; font-family: sans-serif\, Arial\, Verdana\, 'Trebuchet MS'\; font-size: 13px\; line-height: 20.7999992370605px\; background-color: rgb(255\, 255\, 255)\;">July 21 - Aaron Crawford &quot\;Country/Rock&quot\;<br />\nJuly 28 - Diamond Experience &quot\;Neil Diamond Hits&quot\;<br />\nAugust 4 - Fabulous Po&#39\; Boys &quot\;Pop/Rock/Blues&quot\;<br />\n<span style="font-size:14px\;"><strong>Concerts are held in the Sun Dial area near&nbsp\;</strong></span></span><strong><span style="font-size:14px\;">Qdoba<span style="color: rgb(51\, 51\, 51)\; font-family: sans-serif\, Arial\, Verdana\, 'Trebuchet MS'\; line-height: 20.7999992370605px\; background-color: rgb(255\, 255\, 255)\;">.</span></span></strong>
LOCATION:SUNRISE VILLAGE 10507 156th St E Puyallup\, WA 978376
UID:e.101.6734
SEQUENCE:3
DTSTAMP:20260424T105150Z
URL:https://business.puyallupsumnerchamber.com/events/details/sunrise-village-summer-concerts-07-21-2015-6734
END:VEVENT

END:VCALENDAR
