BEGIN:VCALENDAR
VERSION:2.0
PRODID:-//ChamberMaster//Event Calendar 2.0//EN
METHOD:PUBLISH
X-PUBLISHED-TTL:P3D
REFRESH-INTERVAL:P3D
CALSCALE:GREGORIAN
BEGIN:VEVENT
DTSTART:20150729T010000Z
DTEND:20150729T040000Z
X-MICROSOFT-CDO-ALLDAYEVENT:FALSE
SUMMARY:Sunrise Village Summer Concerts
DESCRIPTION:"Family Date Night" Tuesdays\n\nJuly 28 - Diamond Experience "Neil Diamond Hits"\n\nAugust 4 - Fabulous Po' Boys "Pop/Rock/Blues"\n\nConcerts are held in the Sun Dial area near Qdoba.
X-ALT-DESC;FMTTYPE=text/html:<span style="font-size:14px\;"><strong>&quot\;Family Date Night&quot\; Tuesdays</strong></span><br />\nJuly 28 - Diamond Experience &quot\;Neil Diamond Hits&quot\;<br />\nAugust 4 - Fabulous Po&#39\; Boys &quot\;Pop/Rock/Blues&quot\;<br />\n<strong>Concerts are held in the Sun Dial area near Qdoba</strong>.
LOCATION:SUNRISE VILLAGE 10507 156th St E Puyallup\, WA 98376
UID:e.101.6735
SEQUENCE:3
DTSTAMP:20260424T105243Z
URL:https://business.puyallupsumnerchamber.com/events/details/sunrise-village-summer-concerts-07-28-2015-6735
END:VEVENT

END:VCALENDAR
