BEGIN:VCALENDAR
VERSION:2.0
PRODID:-//ChamberMaster//Event Calendar 2.0//EN
METHOD:PUBLISH
X-PUBLISHED-TTL:P3D
REFRESH-INTERVAL:P3D
CALSCALE:GREGORIAN
BEGIN:VEVENT
DTSTART;VALUE=DATE:20141025
DTEND;VALUE=DATE:20141026
TRANSP:TRANSPARENT
X-MICROSOFT-CDO-ALLDAYEVENT:TRUE
SUMMARY:Sunset Festival Of Bands\, Marching Band Field Show Competition
DESCRIPTION:Sixth annual event! 9 High School Band and Color Guard groups in Field Show Competition: Auburn Mountainview\,  Bonney Lake\, Chimacum\, East Valley (Spokane)\, Eisenhower\, Enumclaw\, Klahowya\, Sultan\, and Sumner\n\nGates open at 8:30 AM\; first performance at 9 AM\n\nSpecial Guests Seattle Seahawks Drumline BLUE THUNDER performs at 11:05\n\nGreat for the whole family!\n\nTickets at the gate: $10 Adults\, $5 Seniors\, Students\, Military and First Responders\;  Kids under 5 FREE!\n\nwww.sunsetfestivalofbands.org\n\nPresented by Sumner Band Parents Association
X-ALT-DESC;FMTTYPE=text/html:<p class="MsoNormal">Sixth annual event! 9 High School Band and Color Guard groups in Field Show Competition: Auburn Mountainview\,&nbsp\; Bonney Lake\, Chimacum\, East Valley (Spokane)\, Eisenhower\, Enumclaw\, Klahowya\, Sultan\, and Sumner</p>\n\n<p class="MsoNormal">Gates open at 8:30 AM\; first performance at 9 AM</p>\n\n<p class="MsoNormal">Special Guests Seattle Seahawks Drumline BLUE THUNDER performs at 11:05</p>\n\n<p class="MsoNormal">Great for the whole family!</p>\n\n<p class="MsoNormal">Tickets at the gate: $10 Adults\, $5 Seniors\, Students\, Military and First Responders\; &nbsp\;Kids under 5 FREE!</p>\n\n<p class="MsoNormal"><a href="http://www.sunsetfestivalofbands.org/">www.sunsetfestivalofbands.org</a></p>\n\n<p class="MsoNormal">Presented by Sumner Band Parents Association</p>\n
LOCATION:Sunset Chev Stadium\, 1707 Main St.\, Sumner\, WA 98390
UID:e.101.6514
SEQUENCE:3
DTSTAMP:20260425T014213Z
URL:https://business.puyallupsumnerchamber.com/events/details/sunset-festival-of-bands-marching-band-field-show-competition-10-25-2014-6514
END:VEVENT

END:VCALENDAR
