BEGIN:VCALENDAR
VERSION:2.0
PRODID:-//ChamberMaster//Event Calendar 2.0//EN
METHOD:PUBLISH
X-PUBLISHED-TTL:P3D
REFRESH-INTERVAL:P3D
CALSCALE:GREGORIAN
BEGIN:VEVENT
DTSTART:20181117T010000Z
DTEND:20181117T050000Z
X-MICROSOFT-CDO-ALLDAYEVENT:FALSE
SUMMARY:TEDxTacoma “Transitions: Bridging the Gap”
DESCRIPTION:Our event is called TEDxTacoma\, where x = independently organized TED event. TEDxTacoma will bring together local military families and civilians\; bridging the gap between these two communities and discussing the topic of transitions. Whether military or civilian\, man or woman\, Hilltop or North End\, how can we better orient ourselves and our neighbors in our communities\, thinking\, and experiences? From graduating school to becoming a parent to getting out of the military or beginning a new career path\, transitions occur in all phases of life. Join us as we learn from members of our community about handling those transitions. TEDxTacoma will combine TED Talk videos and live speakers to spark deep discussion and connection in a small group setting.
X-ALT-DESC;FMTTYPE=text/html:Our event is called TEDxTacoma\, where x = independently organized TED event. TEDxTacoma will bring together local military families and civilians\; bridging the gap between these two communities and discussing the topic of transitions. Whether military or civilian\, man or woman\, Hilltop or North End\, how can we better orient ourselves and our neighbors in our communities\, thinking\, and experiences? From graduating school to becoming a parent to getting out of the military or beginning a new career path\, transitions occur in all phases of life. Join us as we learn from members of our community about handling those transitions. TEDxTacoma will combine TED Talk videos and live speakers to spark deep discussion and connection in a small group setting.
LOCATION:American Lake Conference Center 8085 NCO Beach Road Joint Base Lewis-McChord\, WA 98438
UID:e.101.9598
SEQUENCE:3
DTSTAMP:20260421T070550Z
URL:https://business.puyallupsumnerchamber.com/events/details/tedxtacoma-transitions-bridging-the-gap-9598
END:VEVENT

END:VCALENDAR
