BEGIN:VCALENDAR
VERSION:2.0
PRODID:-//ChamberMaster//Event Calendar 2.0//EN
METHOD:PUBLISH
X-PUBLISHED-TTL:P3D
REFRESH-INTERVAL:P3D
CALSCALE:GREGORIAN
BEGIN:VEVENT
DTSTART:20150418T150000Z
DTEND:20150418T180000Z
X-MICROSOFT-CDO-ALLDAYEVENT:FALSE
SUMMARY:The 22nd Annual NTMS Pancake Breakfast and Raffle
DESCRIPTION:Spend a Saturday morning with family and friends enjoying a nice breakfast while you take a chance at winning any of a number of interesting and exciting prizes. Breakfast Tickets are on sale in advance from NTMS 8th Grade students and at the door\, however there are a limited number of raffle tickets available and they sell out each year. Purchase $1 raffle tickets in advance at the school beginning April 13th. Proceeds fund 8th grade graduation activities for the NTMS Class of 2015.
X-ALT-DESC;FMTTYPE=text/html:<p class="MsoNormal">Spend a Saturday morning with family and friends enjoying a nice breakfast while you take a chance at winning any of a number of interesting and exciting prizes. Breakfast Tickets are on sale in advance from NTMS 8th Grade students and at the door\, however there are a limited number of raffle tickets available and they sell out each year. Purchase $1 raffle tickets in advance at the school beginning April 13th. Proceeds fund 8<sup>th</sup> grade graduation activities for the NTMS Class of 2015.</p>\n
LOCATION:North Tapps Middle School Commons (20029 12th St. E.\, Lake Tapps\, WA 98391)
UID:e.101.6568
SEQUENCE:3
DTSTAMP:20260424T154638Z
URL:https://business.puyallupsumnerchamber.com/events/details/the-22nd-annual-ntms-pancake-breakfast-and-raffle-04-18-2015-6568
END:VEVENT

END:VCALENDAR
