BEGIN:VCALENDAR
VERSION:2.0
PRODID:-//ChamberMaster//Event Calendar 2.0//EN
METHOD:PUBLISH
X-PUBLISHED-TTL:P3D
REFRESH-INTERVAL:P3D
CALSCALE:GREGORIAN
BEGIN:VEVENT
DTSTART:20140404T230000Z
DTEND:20140407T020000Z
X-MICROSOFT-CDO-ALLDAYEVENT:FALSE
SUMMARY:The Jordan World Circus 2014
DESCRIPTION:The Jordan World Circus * is coming back !! SURROUNDED BY AMAZING PERFORMERS FROM AROUND THE WORLD\, THAT WILL ENTERTAIN YOU EVERY SINGLE MOMENT OF THIS FANTASTIC SHOW. With three rings of affordable\, family fun and the only three-ring circus act in town\, "The Jordan World Circus" will thrill fans of all ages. Come see the death-defying aerial acts\, animal attractions including tigers and elephants. In addition to the performing acts\, kids will have the unique opportunity to ride and pet different types of animals. This year?s circus will definitely surprise you? Witness a human shoot out of a cannon\, Camels\, White Tigers\, Clowns\, Elephants\, Globe of Death Riders\, Zebras\, Jugglers\, Ponies\, aerialist? and many more awesome acts that will thrill you!! *** Acts are subject to change *** **TICKETS AVAILABLE** http://www.eventbrite.com/e/the-jordan-world-circus-2014-tickets-10785974139 WEB PAGE www.thejordanworldcircus.com FaceBook: TheJordanWorldCircus **For special promotion in your area... Visit our facebook fan page**
X-ALT-DESC;FMTTYPE=text/html:The Jordan World Circus * is coming back !! SURROUNDED BY AMAZING PERFORMERS FROM AROUND THE WORLD\, THAT WILL ENTERTAIN YOU EVERY SINGLE MOMENT OF THIS FANTASTIC SHOW. With three rings of affordable\, family fun and the only three-ring circus act in town\, &quot\;The Jordan World Circus&quot\; will thrill fans of all ages. Come see the death-defying aerial acts\, animal attractions including tigers and elephants. In addition to the performing acts\, kids will have the unique opportunity to ride and pet different types of animals. This year?s circus will definitely surprise you? Witness a human shoot out of a cannon\, Camels\, White Tigers\, Clowns\, Elephants\, Globe of Death Riders\, Zebras\, Jugglers\, Ponies\, aerialist? and many more awesome acts that will thrill you!! *** Acts are subject to change *** **TICKETS AVAILABLE** http://www.eventbrite.com/e/the-jordan-world-circus-2014-tickets-10785974139 WEB PAGE www.thejordanworldcircus.com FaceBook: TheJordanWorldCircus **For special promotion in your area... Visit our facebook fan page**
LOCATION:Washington State Fair Events Center 110 9th Ave. SW Puyallup\, WA 98371
UID:e.101.6467
SEQUENCE:3
DTSTAMP:20260425T105626Z
URL:https://business.puyallupsumnerchamber.com/events/details/the-jordan-world-circus-2014-04-04-2014-6467
END:VEVENT

END:VCALENDAR
