BEGIN:VCALENDAR
VERSION:2.0
PRODID:-//ChamberMaster//Event Calendar 2.0//EN
METHOD:PUBLISH
X-PUBLISHED-TTL:P3D
REFRESH-INTERVAL:P3D
CALSCALE:GREGORIAN
BEGIN:VEVENT
DTSTART:20151212T210000Z
DTEND:20151212T230000Z
X-MICROSOFT-CDO-ALLDAYEVENT:FALSE
SUMMARY:The Tapestry Singers
DESCRIPTION:WINTER MUSIC SERIES\n\n     Take a break from the shopping and holiday rush. Celebrate the season              with the gift of beautiful music at your Puyallup Public Library\n\nTHE TAPESTRY SINGERS\n\nunder the direction of Suna Chung
X-ALT-DESC;FMTTYPE=text/html:<span style="font-family:comic sans ms\;"><span style="color:#0000CD\;"><span style="font-size:14px\;">WINTER MUSIC SERIES<br />\n&nbsp\; &nbsp\; &nbsp\;</span><span style="font-size: 12px\; line-height: 19.2px\;">Take a break from the shopping and holiday rush. Celebrate the season &nbsp\; &nbsp\; &nbsp\; &nbsp\; &nbsp\; &nbsp\; &nbsp\;with the gift&nbsp\;of beautiful music at your Puyallup Public Library</span></span></span><br />\n<strong><span style="color:#000080\;">THE TAPESTRY SINGERS</span></strong><br />\nunder the direction of Suna Chung
LOCATION:Puyallup Public Library 324 South Meridian - Puyallup
UID:e.101.6812
SEQUENCE:3
DTSTAMP:20260424T034954Z
URL:https://business.puyallupsumnerchamber.com/events/details/the-tapestry-singers-12-12-2015-6812
END:VEVENT

END:VCALENDAR
