BEGIN:VCALENDAR
VERSION:2.0
PRODID:-//ChamberMaster//Event Calendar 2.0//EN
METHOD:PUBLISH
X-PUBLISHED-TTL:P3D
REFRESH-INTERVAL:P3D
CALSCALE:GREGORIAN
BEGIN:VEVENT
DTSTART:20180912T000000Z
DTEND:20180912T020000Z
X-MICROSOFT-CDO-ALLDAYEVENT:FALSE
SUMMARY:Update: Puyallup Station Access Improvements
DESCRIPTION:Tell us your design ideas for the new parking garage at Puyallup Station\nSound Transit is building a new parking garage at Puyallup Station so that more people can conveniently access Sounder and enjoy a traffic-free commute. Before we select a firm to design and construct the garage\, we invite you to provide input on the visual design that best fits the Puyallup community. Should it feel modern or classic? Stand out or blend in? Join us at our drop-in session to get an update on the project and give feedback on design elements.
X-ALT-DESC;FMTTYPE=text/html:<h2 style="margin-top:0in\;margin-right:0in\;margin-bottom:7.5pt\;margin-left:0in\;line-height:24.75pt\;"><span style="font-weight:normal\;"><span style="color:#676767\;"><span style="font-family:helvetica\,sans-serif\;"><span style="font-size:16.5pt\;">Tell us your design ideas for the new parking garage at Puyallup Station</span></span></span></span></h2>\n<span style="color:#676767\;"><span style="font-family:helvetica\,sans-serif\;"><span style="font-size:10.5pt\;">Sound Transit is building a new parking garage at Puyallup Station so that more people can conveniently access Sounder and enjoy a traffic-free commute. Before we select a firm to design and construct the garage\, we invite you to provide input on the visual design that best fits the Puyallup community. Should it feel modern or classic? Stand out or blend in? Join us at our drop-in session to get an update on the project and give feedback on design elements.</span></span></span>
LOCATION:Puyallup Activity Center 210 W Pioneer Ave\, Puyallup
UID:e.101.9378
SEQUENCE:3
DTSTAMP:20260421T114507Z
URL:https://business.puyallupsumnerchamber.com/events/details/update-puyallup-station-access-improvements-9378
END:VEVENT

END:VCALENDAR
