BEGIN:VCALENDAR
VERSION:2.0
PRODID:-//ChamberMaster//Event Calendar 2.0//EN
METHOD:PUBLISH
X-PUBLISHED-TTL:P3D
REFRESH-INTERVAL:P3D
CALSCALE:GREGORIAN
BEGIN:VEVENT
DTSTART:20181008T160000Z
DTEND:20181009T040000Z
X-MICROSOFT-CDO-ALLDAYEVENT:FALSE
SUMMARY:Value Village 50% off sale
DESCRIPTION:Join us October 8th for our 50% off sale on clothing\, shoes\, accessories\, and bed and bath.\n\nThis does NOT include Red tagged Items\, jewelry\, books\, media\, housewares and furniture. We also have our Halloween up and ready for all your needs\, and we have people to help for the exact costume you are looking for\, either new or used.
X-ALT-DESC;FMTTYPE=text/html:Join us October 8th for our 50% off sale on clothing\, shoes\, accessories\, and bed and bath.<br />\nThis does NOT include Red tagged Items\, jewelry\, books\, media\, housewares and furniture. We also have our Halloween up and ready for all your needs\, and we have people to help for the exact costume you are looking for\, either new or used.
LOCATION:Value Village - Puyallup
UID:e.101.9593
SEQUENCE:3
DTSTAMP:20260421T090552Z
URL:https://business.puyallupsumnerchamber.com/events/details/value-village-50-off-sale-9593
END:VEVENT

END:VCALENDAR
