BEGIN:VCALENDAR
VERSION:2.0
PRODID:-//ChamberMaster//Event Calendar 2.0//EN
METHOD:PUBLISH
X-PUBLISHED-TTL:P3D
REFRESH-INTERVAL:P3D
CALSCALE:GREGORIAN
BEGIN:VEVENT
DTSTART;VALUE=DATE:20161112
DTEND;VALUE=DATE:20161114
TRANSP:TRANSPARENT
X-MICROSOFT-CDO-ALLDAYEVENT:TRUE
SUMMARY:VFW Auxillary 91 Annual Fall Holiday Bazaar
DESCRIPTION:Annual Fall Holiday Craft and Vendor Bazaar Saturday 11/12 from 9am - 4pm Sunday 11/13 from 9am - 4pm Crafters\, direct sales reps\, Non-profits like Boy Scouts\, Truman middle school cheerleaders\, and KLAY broadcasting live.
X-ALT-DESC;FMTTYPE=text/html:Annual Fall Holiday Craft and Vendor Bazaar Saturday 11/12 from 9am - 4pm Sunday 11/13 from 9am - 4pm Crafters\, direct sales reps\, Non-profits like Boy Scouts\, Truman middle school cheerleaders\, and KLAY broadcasting live.
LOCATION:2000 South Union Avenue\, Tacoma\, WA 98405 VFW Post 91 Hall
UID:e.101.8441
SEQUENCE:3
DTSTAMP:20260423T110443Z
URL:https://business.puyallupsumnerchamber.com/events/details/vfw-auxillary-91-annual-fall-holiday-bazaar-11-12-2016-8441
END:VEVENT

END:VCALENDAR
