BEGIN:VCALENDAR
VERSION:2.0
PRODID:-//ChamberMaster//Event Calendar 2.0//EN
METHOD:PUBLISH
X-PUBLISHED-TTL:P3D
REFRESH-INTERVAL:P3D
CALSCALE:GREGORIAN
BEGIN:VEVENT
DTSTART:20180804T150000Z
DTEND:20180806T010000Z
X-MICROSOFT-CDO-ALLDAYEVENT:FALSE
SUMMARY:Vintage Trailer Rally
DESCRIPTION:
X-ALT-DESC;FMTTYPE=text/html:
LOCATION:
UID:e.101.9101
SEQUENCE:3
DTSTAMP:20260421T132736Z
URL:https://business.puyallupsumnerchamber.com/events/details/vintage-trailer-rally-08-04-2018-9101
END:VEVENT

END:VCALENDAR
