BEGIN:VCALENDAR
VERSION:2.0
PRODID:-//ChamberMaster//Event Calendar 2.0//EN
METHOD:PUBLISH
X-PUBLISHED-TTL:P3D
REFRESH-INTERVAL:P3D
CALSCALE:GREGORIAN
BEGIN:VEVENT
DTSTART:20150423T150000Z
DTEND:20150423T160000Z
X-MICROSOFT-CDO-ALLDAYEVENT:FALSE
SUMMARY:Wake Up at Anthem
DESCRIPTION:Wake Up! with The Chamber\n\nand find out what is going on.\n\nMeet our newest Members\n\nMake valuable connections
X-ALT-DESC;FMTTYPE=text/html:<div style="text-align: center\;"><span style="font-size:16px\;"><span style="color:#008080\;"><strong>Wake Up!</strong> </span>with <strong><span style="color:#008080\;">The Chamber</span></strong><br />\nand find out what is going on.<br />\nMeet our newest Members<br />\nMake valuable connections</span></div>\n
LOCATION:Anthem Beverage and Bistro 210 West Pioneer Puyallup\, WA 98371
UID:e.101.6555
SEQUENCE:3
DTSTAMP:20260424T154438Z
URL:https://business.puyallupsumnerchamber.com/events/details/wake-up-at-anthem-04-23-2015-6555
END:VEVENT

END:VCALENDAR
