BEGIN:VCALENDAR
VERSION:2.0
PRODID:-//ChamberMaster//Event Calendar 2.0//EN
METHOD:PUBLISH
X-PUBLISHED-TTL:P3D
REFRESH-INTERVAL:P3D
CALSCALE:GREGORIAN
BEGIN:VEVENT
DTSTART:20150430T150000Z
DTEND:20150430T160000Z
X-MICROSOFT-CDO-ALLDAYEVENT:FALSE
SUMMARY:Wake Up at Anthem
DESCRIPTION:Wake Up! with The Chamber\n\nMeet our newest\n\nFind out what is happening in the Chamber\n\nand how to leverage it for business growth\n\nMake valuable connections
X-ALT-DESC;FMTTYPE=text/html:<div style="text-align: center\;"><span style="font-size:16px\;"><span style="color:#008080\;"><strong>Wake Up!</strong> </span>with <strong><span style="color:#008080\;">The Chamber</span></strong><br />\nMeet our newest<br />\nFind out what is happening&nbsp\;in the Chamber<br />\nand how to leverage it for business growth<br />\nMake valuable connections</span></div>\n
LOCATION:Anthem Beverage and Bistro 210 West Pioneer Puyallup\, WA 98371
UID:e.101.6556
SEQUENCE:3
DTSTAMP:20260424T154310Z
URL:https://business.puyallupsumnerchamber.com/events/details/wake-up-at-anthem-04-30-2015-6556
END:VEVENT

END:VCALENDAR
