BEGIN:VCALENDAR
VERSION:2.0
PRODID:-//ChamberMaster//Event Calendar 2.0//EN
METHOD:PUBLISH
X-PUBLISHED-TTL:P3D
REFRESH-INTERVAL:P3D
CALSCALE:GREGORIAN
BEGIN:VEVENT
DTSTART:20151008T150000Z
DTEND:20151008T160000Z
X-MICROSOFT-CDO-ALLDAYEVENT:FALSE
SUMMARY:Wake Up at Anthem
DESCRIPTION:Wake Up! with Shelly\, Laura and Cathryn.\n\nMeet our newest members and network with businesses of Puyallup and Sumner. It's is also how you will be IN THE KNOW regarding what is going on in the Chamber and our two Cities
X-ALT-DESC;FMTTYPE=text/html:<span style="font-size:12px\;"><span style="color:#000080\;">Wake Up! with Shelly\, Laura and Cathryn</span></span>.<br />\nMeet our newest members and network with businesses of Puyallup and Sumner. It&#39\;s is also how you will be&nbsp\;IN THE KNOW regarding what is going on in the Chamber and our two Cities
LOCATION:Anthem Beverage and Bistro 210 W Pioneer - Puyallup
UID:e.101.6773
SEQUENCE:3
DTSTAMP:20260424T062845Z
URL:https://business.puyallupsumnerchamber.com/events/details/wake-up-at-anthem-10-08-2015-6773
END:VEVENT

END:VCALENDAR
