BEGIN:VCALENDAR
VERSION:2.0
PRODID:-//ChamberMaster//Event Calendar 2.0//EN
METHOD:PUBLISH
X-PUBLISHED-TTL:P3D
REFRESH-INTERVAL:P3D
CALSCALE:GREGORIAN
BEGIN:VEVENT
DTSTART:20141120T160000Z
DTEND:20141120T170000Z
X-MICROSOFT-CDO-ALLDAYEVENT:FALSE
SUMMARY:Wake Up at Anthem
DESCRIPTION:Join us for networking with Chamber members and learn about how you can leverage our Chamber programs and activities to increase your bottom line.
X-ALT-DESC;FMTTYPE=text/html:<div style="text-align: center\;"><strong><span style="color:#008080\;">J</span></strong><span style="font-size:14px\;"><span style="font-family:tahoma\;"><strong><span style="color:#008080\;">oin us for networking with Chamber members and learn about how you can leverage our Chamber programs and activities to increase your bottom line.</span></strong></span></span></div>\n
LOCATION:Anthem Beverage and Bistro 210 West Pioneer Puyallup\, WA
UID:e.101.6511
SEQUENCE:3
DTSTAMP:20260424T234746Z
URL:https://business.puyallupsumnerchamber.com/events/details/wake-up-at-anthem-11-20-2014-6511
END:VEVENT

END:VCALENDAR
