BEGIN:VCALENDAR
VERSION:2.0
PRODID:-//ChamberMaster//Event Calendar 2.0//EN
METHOD:PUBLISH
X-PUBLISHED-TTL:P3D
REFRESH-INTERVAL:P3D
CALSCALE:GREGORIAN
BEGIN:VEVENT
DTSTART:20180712T150000Z
DTEND:20180712T160000Z
X-MICROSOFT-CDO-ALLDAYEVENT:FALSE
SUMMARY:Wake Up at Wanna Cupcake?
DESCRIPTION:Get the latest on Upcoming Chamber Events\n\nBe in the know about Future Ribbon Cuttings\, etc.\n\nNetwork with Chamber Members
X-ALT-DESC;FMTTYPE=text/html:Get the latest on Upcoming Chamber Events<br />\nBe in the know about Future Ribbon Cuttings\, etc.<br />\nNetwork with Chamber Members<br />\n&nbsp\;
LOCATION:Wanna Cupcake Bakery 2102 E Main\, Puyallup\, WA 98372
UID:e.101.8875
SEQUENCE:3
DTSTAMP:20260421T133301Z
URL:https://business.puyallupsumnerchamber.com/events/details/wake-up-at-wanna-cupcake-07-12-2018-8875
END:VEVENT

END:VCALENDAR
