BEGIN:VCALENDAR
VERSION:2.0
PRODID:-//ChamberMaster//Event Calendar 2.0//EN
METHOD:PUBLISH
X-PUBLISHED-TTL:P3D
REFRESH-INTERVAL:P3D
CALSCALE:GREGORIAN
BEGIN:VEVENT
DTSTART:20181101T150000Z
DTEND:20181101T160000Z
X-MICROSOFT-CDO-ALLDAYEVENT:FALSE
SUMMARY:Wake Up at Wanna Cupcake?
DESCRIPTION:This is an informal networking event.  A chance to meet other like minded people and learn more about what they do in their business.
X-ALT-DESC;FMTTYPE=text/html:This is an informal networking event.&nbsp\; A chance to meet other like minded people and learn more about what they do in their business.
LOCATION:2102 E Main Puyallup\, WA 98372
UID:e.101.8815
SEQUENCE:3
DTSTAMP:20260421T070606Z
URL:https://business.puyallupsumnerchamber.com/events/details/wake-up-at-wanna-cupcake-8815
END:VEVENT

END:VCALENDAR
