BEGIN:VCALENDAR
VERSION:2.0
PRODID:-//ChamberMaster//Event Calendar 2.0//EN
METHOD:PUBLISH
X-PUBLISHED-TTL:P3D
REFRESH-INTERVAL:P3D
CALSCALE:GREGORIAN
BEGIN:VEVENT
DTSTART:20180804T010000Z
DTEND:20180804T050000Z
X-MICROSOFT-CDO-ALLDAYEVENT:FALSE
SUMMARY:Washington State Fair Foundation 20th Annual Round Up Auction
DESCRIPTION:Each August the Washington State Fair Foundation produces a dinner auction in support of our scholarships and educational programs.  Thanks to the auction attendees\, more than $1\,100\,000 has been distributed to local students since 1991.
X-ALT-DESC;FMTTYPE=text/html:<span style="font-size:medium"><span style="font-family:calibri">Each August the Washington State Fair Foundation produces a dinner auction in support of our scholarships and educational programs.&nbsp\; Thanks to the auction attendees\, more than $1\,100\,000 has been distributed to local students since 1991. </span></span><br />\n&nbsp\;
LOCATION:Washington State Fair\, Events Center\, VIP Tent
UID:e.101.8897
SEQUENCE:3
DTSTAMP:20260421T133715Z
URL:https://business.puyallupsumnerchamber.com/events/details/washington-state-fair-foundation-20th-annual-round-up-auction-08-03-2018-8897
END:VEVENT

END:VCALENDAR
