BEGIN:VCALENDAR
VERSION:2.0
PRODID:-//ChamberMaster//Event Calendar 2.0//EN
METHOD:PUBLISH
X-PUBLISHED-TTL:P3D
REFRESH-INTERVAL:P3D
CALSCALE:GREGORIAN
BEGIN:VEVENT
DTSTART:20180419T003000Z
DTEND:20180419T050000Z
X-MICROSOFT-CDO-ALLDAYEVENT:FALSE
SUMMARY:Washington State Fair Foundation Rock of Roller Coaster
DESCRIPTION:Rock the Roller Coaster   Wednesday\, April 18\, 2018\n\nAs an informal kick-off to the Spring Fair\, the Foundation hosts a gathering which includes representatives of the Fair and Foundation boards\, local business leaders and donors for a fun evening of Fair fun\, including free carnival games and roller coaster rides!  \n\n\n\nhttp://www.thefair.com/foundation/events/rock
X-ALT-DESC;FMTTYPE=text/html:<span style="font-family:calibri"><strong><u><span style="font-size:12pt"><span style="color:rgb(148\, 54\, 52)">Rock the Roller Coaster</span></span></u></strong></span><u><span style="font-size:12pt"><span style="color:rgb(148\, 54\, 52)"> &ndash\; </span></span></u><strong><u><span style="font-size:12pt"><span style="color:rgb(148\, 54\, 52)">Wednesday\, April 18\, 2018</span></span></u></strong><br />\n<span style="font-size:medium"><span style="font-family:calibri">As an informal kick-off to the Spring Fair\, the Foundation hosts a gathering which includes representatives of the Fair and Foundation boards\, local business leaders and donors for a fun evening of Fair fun\, including free carnival games and roller coaster rides!&nbsp\; </span></span><br />\n<br />\n<a href="http://www.thefair.com/foundation/events/rock">http://www.thefair.com/foundation/events/rock</a>
LOCATION:Washington State Fair\, Events Center\, VIP Tent
UID:e.101.8896
SEQUENCE:3
DTSTAMP:20260421T070924Z
URL:https://business.puyallupsumnerchamber.com/events/details/washington-state-fair-foundation-rock-of-roller-coaster-04-18-2018-8896
END:VEVENT

END:VCALENDAR
