BEGIN:VCALENDAR
VERSION:2.0
PRODID:-//ChamberMaster//Event Calendar 2.0//EN
METHOD:PUBLISH
X-PUBLISHED-TTL:P3D
REFRESH-INTERVAL:P3D
CALSCALE:GREGORIAN
BEGIN:VEVENT
DTSTART:20150506T003000Z
DTEND:20150506T020000Z
X-MICROSOFT-CDO-ALLDAYEVENT:FALSE
SUMMARY:Wine and Wisdom with LegalShield
DESCRIPTION:Small Business owners and HR Professionals are invited to a one-of-a-kind networking event!\n\nMeet and mingle with your peers.  Enjoy a complimentary "SALUTE TO ITALIA" wine tasting with hors d'oeuvres.\n\nLearn how LegalShield can help protect and grow your business and your employees!\n\n\n\nLooking forward to meet you!
X-ALT-DESC;FMTTYPE=text/html:<span style="font-family:verdana\;">Small Business owners and HR Professionals are invited to a one-of-a-kind networking event!<br />\nMeet and mingle with your peers. &nbsp\;Enjoy a complimentary&nbsp\;<em>&quot\;SALUTE TO ITALIA&quot\; </em>wine tasting with hors d&#39\;oeuvres.<br />\nLearn how LegalShield can help protect and grow your business and your employees!<br />\n<br />\nLooking forward to meet you!</span>
LOCATION:Total Wine & More South Hill Village 120 31st Ave SE - Puyallup
UID:e.101.6572
SEQUENCE:3
DTSTAMP:20260424T135253Z
URL:https://business.puyallupsumnerchamber.com/events/details/wine-and-wisdom-with-legalshield-05-05-2015-6572
END:VEVENT

END:VCALENDAR
